BEGIN:VCALENDAR
VERSION:2.0
PRODID:-//eventon.com NONSGML v1.0//EN
CALSCALE:GREGORIAN
METHOD:PUBLISH
BEGIN:VEVENT
UID:69e7424174c0f
DTSTAMP:20260421T092417Z
DTSTART:20210316T150000Z
DTEND:20210318T190000Z
LOCATION:Por videoconferencia
SUMMARY:Análisis de costes de moldes de inyección
DESCRIPTION:El curso proporciona una visión de los métodos más utilizado
 s en la industria para estimar los costes de diseño y fabricación de mold
 es\,  repasando el método en el que se basan la gran mayoría de softwares
  comerciales para cálculo de costes de moldes.\nhttps://www.cep-plasticos.
 com/events/analisis-de-costes-de-moldes-de-inyeccion/
URL:https://www.cep-plasticos.com/events/analisis-de-costes-de-moldes-de-inyeccion/
END:VEVENT
END:VCALENDAR