BEGIN:VCALENDAR
VERSION:2.0
PRODID:-//eventon.com NONSGML v1.0//EN
CALSCALE:GREGORIAN
METHOD:PUBLISH
BEGIN:VEVENT
UID:69e74f1bd672a
DTSTAMP:20260421T101907Z
DTSTART:20240508T093000Z
DTEND:20240508T130000Z
LOCATION:Sala de prensa Hispack Av. Joan Carles I\,  64
SUMMARY:Soluciones de financiación y cuenta atrás RAP
DESCRIPTION:El Centro Español de Plásticos y AMEC organizan conjuntamente
  un side event en el marco de Hispack enfocado a difundir información de v
 alor para las empresas. En una primera parte\,  bajo el título "¿Conoces 
 el banco FIEM y las múltiples ayudas del CDTI para proyectos de I+D+i?"\, 
  se presentarán soluciones[..]\nhttps://www.cep-plasticos.com/events/soluc
 iones-de-financiacion-y-cuenta-atras-rap/
URL:https://www.cep-plasticos.com/events/soluciones-de-financiacion-y-cuenta-atras-rap/
END:VEVENT
END:VCALENDAR