BEGIN:VCALENDAR
VERSION:2.0
PRODID:-//eventon.com NONSGML v1.0//EN
CALSCALE:GREGORIAN
METHOD:PUBLISH
BEGIN:VEVENT
UID:69e89cb31f16a
DTSTAMP:20260422T100227Z
DTSTART:20250930T080000Z
DTEND:20250930T090000Z
LOCATION:Online
SUMMARY:Robótica y eficiencia en plásticos: descubre todo el potencial de tu empresa con WEMO
DESCRIPTION:La automatización con robots WEMO en la fabricación de piezas
  plásticas —como veremos en este caso práctico real— permite aumentar
  la productividad\,  mejorar la calidad y reducir costes. Estos sistemas de
 stacan por su precisión\,  repetibilidad y fácil integración en celdas a
 utomatizadas\,  incluso junto a robots FANUC\,  ofreciendo una solución fl
 exible[..]\nhttps://www.cep-plasticos.com/events/robotica-y-eficiencia-en-p
 lasticos-descubre-todo-el-potencial-de-tu-empresa-con-wemo/
URL:https://www.cep-plasticos.com/events/robotica-y-eficiencia-en-plasticos-descubre-todo-el-potencial-de-tu-empresa-con-wemo/
END:VEVENT
END:VCALENDAR